BEGIN:VCALENDAR
VERSION:2.0
PRODID:-//Gulf British Academy - ECPv6.12.0.1//NONSGML v1.0//EN
CALSCALE:GREGORIAN
METHOD:PUBLISH
X-WR-CALNAME:Gulf British Academy
X-ORIGINAL-URL:https://www.gulfbritishacademy.com
X-WR-CALDESC:Events for Gulf British Academy
REFRESH-INTERVAL;VALUE=DURATION:PT1H
X-Robots-Tag:noindex
X-PUBLISHED-TTL:PT1H
BEGIN:VTIMEZONE
TZID:Asia/Kuwait
BEGIN:STANDARD
TZOFFSETFROM:+0300
TZOFFSETTO:+0300
TZNAME:+03
DTSTART:20210101T000000
END:STANDARD
END:VTIMEZONE
BEGIN:VEVENT
DTSTART;VALUE=DATE:20211103
DTEND;VALUE=DATE:20211104
DTSTAMP:20260423T211546
CREATED:20211028T114228Z
LAST-MODIFIED:20211028T114923Z
UID:10408-1635897600-1635983999@www.gulfbritishacademy.com
SUMMARY:GBA House Day
DESCRIPTION:It’s GBA House Day and we invite all our pupils to wear a house-coloured T-Shirt with their GBA shorts to show their support for their house. Pupils can also wear house-coloured accessories such as socks and hats. Pupils will take part in activities with their House throughout the day to win as many bonus House points as possible!
URL:https://www.gulfbritishacademy.com/event/gba-house-day/
END:VEVENT
END:VCALENDAR