BEGIN:VCALENDAR
VERSION:2.0
PRODID:-//Gulf British Academy - ECPv6.12.0.1//NONSGML v1.0//EN
CALSCALE:GREGORIAN
METHOD:PUBLISH
X-WR-CALNAME:Gulf British Academy
X-ORIGINAL-URL:https://www.gulfbritishacademy.com
X-WR-CALDESC:Events for Gulf British Academy
REFRESH-INTERVAL;VALUE=DURATION:PT1H
X-Robots-Tag:noindex
X-PUBLISHED-TTL:PT1H
BEGIN:VTIMEZONE
TZID:Asia/Kuwait
BEGIN:STANDARD
TZOFFSETFROM:+0300
TZOFFSETTO:+0300
TZNAME:+03
DTSTART:20210101T000000
END:STANDARD
END:VTIMEZONE
BEGIN:VEVENT
DTSTART;VALUE=DATE:20210911
DTEND;VALUE=DATE:20210912
DTSTAMP:20260419T163917
CREATED:20180829T204509Z
LAST-MODIFIED:20210829T110006Z
UID:4874-1631318400-1631404799@www.gulfbritishacademy.com
SUMMARY:Parents Meeting - All Years
DESCRIPTION:GBA invite you to a parents meeting in the lecture theatre\, where our Headteacher will share with you the exciting developments at GBA\, in addition to meeting our new teachers. \n\nDate: Saturday 11 September\nTime: 10:00am\nLocation: Lecture Theatre\n\n 
URL:https://www.gulfbritishacademy.com/event/parents-meeting-all-years/
END:VEVENT
END:VCALENDAR