BEGIN:VCALENDAR
VERSION:2.0
PRODID:-//Gulf British Academy - ECPv6.12.0.1//NONSGML v1.0//EN
CALSCALE:GREGORIAN
METHOD:PUBLISH
X-WR-CALNAME:Gulf British Academy
X-ORIGINAL-URL:https://www.gulfbritishacademy.com
X-WR-CALDESC:Events for Gulf British Academy
REFRESH-INTERVAL;VALUE=DURATION:PT1H
X-Robots-Tag:noindex
X-PUBLISHED-TTL:PT1H
BEGIN:VTIMEZONE
TZID:Asia/Kuwait
BEGIN:STANDARD
TZOFFSETFROM:+0300
TZOFFSETTO:+0300
TZNAME:+03
DTSTART:20210101T000000
END:STANDARD
END:VTIMEZONE
BEGIN:VEVENT
DTSTART;VALUE=DATE:20210919
DTEND;VALUE=DATE:20210920
DTSTAMP:20260419T162335
CREATED:20200202T053732Z
LAST-MODIFIED:20210829T110006Z
UID:8609-1632009600-1632095999@www.gulfbritishacademy.com
SUMMARY:Pupil Familiarisation Day - KS3
DESCRIPTION:GBA welcomes our Year 7 and Year 8 pupils for a tour of the building and familiarisation of routines to help keep them safe and secure at all times. \nDetailed arrangements will be sent out soon. \nWe look forward to seeing you!
URL:https://www.gulfbritishacademy.com/event/pupil-familiarisation-day-ks3/
END:VEVENT
END:VCALENDAR