BEGIN:VCALENDAR
VERSION:2.0
PRODID:-//Gulf British Academy - ECPv6.12.0.1//NONSGML v1.0//EN
CALSCALE:GREGORIAN
METHOD:PUBLISH
X-WR-CALNAME:Gulf British Academy
X-ORIGINAL-URL:https://www.gulfbritishacademy.com
X-WR-CALDESC:Events for Gulf British Academy
REFRESH-INTERVAL;VALUE=DURATION:PT1H
X-Robots-Tag:noindex
X-PUBLISHED-TTL:PT1H
BEGIN:VTIMEZONE
TZID:Asia/Kuwait
BEGIN:STANDARD
TZOFFSETFROM:+0300
TZOFFSETTO:+0300
TZNAME:+03
DTSTART:20210101T000000
END:STANDARD
END:VTIMEZONE
BEGIN:VEVENT
DTSTART;TZID=Asia/Kuwait:20210922T073000
DTEND;TZID=Asia/Kuwait:20210922T093000
DTSTAMP:20260419T163718
CREATED:20210829T110006Z
LAST-MODIFIED:20210921T045151Z
UID:10013-1632295800-1632303000@www.gulfbritishacademy.com
SUMMARY:Pupil Familiarisation Day - PreKG and KG
DESCRIPTION:GBA welcomes our Pre-KG & KG pupils for a tour of the building and familiarisation of routines to help keep them safe and secure at all times. \nDetailed arrangements will be sent out soon. \nWe look forward to seeing you!
URL:https://www.gulfbritishacademy.com/event/pupil-familiarisation-day-prekg-kg/
END:VEVENT
END:VCALENDAR