BEGIN:VCALENDAR
VERSION:2.0
PRODID:-//Gulf British Academy - ECPv6.12.0.1//NONSGML v1.0//EN
CALSCALE:GREGORIAN
METHOD:PUBLISH
X-WR-CALNAME:Gulf British Academy
X-ORIGINAL-URL:https://www.gulfbritishacademy.com
X-WR-CALDESC:Events for Gulf British Academy
REFRESH-INTERVAL;VALUE=DURATION:PT1H
X-Robots-Tag:noindex
X-PUBLISHED-TTL:PT1H
BEGIN:VTIMEZONE
TZID:Asia/Kuwait
BEGIN:STANDARD
TZOFFSETFROM:+0300
TZOFFSETTO:+0300
TZNAME:+03
DTSTART:20220101T000000
END:STANDARD
END:VTIMEZONE
BEGIN:VEVENT
DTSTART;VALUE=DATE:20220402
DTEND;VALUE=DATE:20220403
DTSTAMP:20260420T113950
CREATED:20210302T093509Z
LAST-MODIFIED:20210829T110005Z
UID:6954-1648857600-1648943999@www.gulfbritishacademy.com
SUMMARY:Ramadan Commences*
DESCRIPTION:
URL:https://www.gulfbritishacademy.com/event/ramadan-commences/
END:VEVENT
END:VCALENDAR