BEGIN:VCALENDAR
VERSION:2.0
PRODID:-//Gulf British Academy - ECPv6.12.0.1//NONSGML v1.0//EN
CALSCALE:GREGORIAN
METHOD:PUBLISH
X-WR-CALNAME:Gulf British Academy
X-ORIGINAL-URL:https://www.gulfbritishacademy.com
X-WR-CALDESC:Events for Gulf British Academy
REFRESH-INTERVAL;VALUE=DURATION:PT1H
X-Robots-Tag:noindex
X-PUBLISHED-TTL:PT1H
BEGIN:VTIMEZONE
TZID:Asia/Kuwait
BEGIN:STANDARD
TZOFFSETFROM:+0300
TZOFFSETTO:+0300
TZNAME:+03
DTSTART:20210101T000000
END:STANDARD
END:VTIMEZONE
BEGIN:VEVENT
DTSTART;VALUE=DATE:20210926
DTEND;VALUE=DATE:20210927
DTSTAMP:20260419T164433
CREATED:20210829T110006Z
LAST-MODIFIED:20210829T110006Z
UID:9998-1632614400-1632700799@www.gulfbritishacademy.com
SUMMARY:Term 1 - First Day
DESCRIPTION:A warm welcome to all of our pupils! Today is the first day of Term 1.
URL:https://www.gulfbritishacademy.com/event/term-1-first-day/
END:VEVENT
END:VCALENDAR